BEGIN:VCALENDAR
VERSION:2.0
PRODID:-//Red Schoolhouse Wines - ECPv6.13.2.1//NONSGML v1.0//EN
CALSCALE:GREGORIAN
METHOD:PUBLISH
X-WR-CALNAME:Red Schoolhouse Wines
X-ORIGINAL-URL:https://redschoolhousewines.com
X-WR-CALDESC:Events for Red Schoolhouse Wines
REFRESH-INTERVAL;VALUE=DURATION:PT1H
X-Robots-Tag:noindex
X-PUBLISHED-TTL:PT1H
BEGIN:VTIMEZONE
TZID:America/Chicago
BEGIN:DAYLIGHT
TZOFFSETFROM:-0600
TZOFFSETTO:-0500
TZNAME:CDT
DTSTART:20260308T080000
END:DAYLIGHT
BEGIN:STANDARD
TZOFFSETFROM:-0500
TZOFFSETTO:-0600
TZNAME:CST
DTSTART:20261101T070000
END:STANDARD
END:VTIMEZONE
BEGIN:VEVENT
DTSTART;TZID=America/Chicago:20260206T160000
DTEND;TZID=America/Chicago:20260206T210000
DTSTAMP:20260424T064607
CREATED:20250828T001944Z
LAST-MODIFIED:20250828T001944Z
UID:10004412-1770393600-1770411600@redschoolhousewines.com
SUMMARY:Open
DESCRIPTION:
URL:https://redschoolhousewines.com/event/open-9/2026-02-06/
LOCATION:Red Schoolhouse Wines & Spirits\, 5768N 4th St S\, Stone Lake\, WI\, 54876\, United States
CATEGORIES:Hours
GEO:45.843909;-91.540266
X-APPLE-STRUCTURED-LOCATION;VALUE=URI;X-ADDRESS=Red Schoolhouse Wines & Spirits 5768N 4th St S Stone Lake WI 54876 United States;X-APPLE-RADIUS=500;X-TITLE=5768N 4th St S:geo:-91.540266,45.843909
END:VEVENT
BEGIN:VEVENT
DTSTART;TZID=America/Chicago:20260207T113000
DTEND;TZID=America/Chicago:20260207T210000
DTSTAMP:20260424T064607
CREATED:20250514T165716Z
LAST-MODIFIED:20250514T165716Z
UID:10004247-1770463800-1770498000@redschoolhousewines.com
SUMMARY:Open
DESCRIPTION:
URL:https://redschoolhousewines.com/event/open-6/2026-02-07/
LOCATION:Red Schoolhouse Wines & Spirits\, 5768N 4th St S\, Stone Lake\, WI\, 54876\, United States
CATEGORIES:Hours
GEO:45.843909;-91.540266
X-APPLE-STRUCTURED-LOCATION;VALUE=URI;X-ADDRESS=Red Schoolhouse Wines & Spirits 5768N 4th St S Stone Lake WI 54876 United States;X-APPLE-RADIUS=500;X-TITLE=5768N 4th St S:geo:-91.540266,45.843909
END:VEVENT
BEGIN:VEVENT
DTSTART;TZID=America/Chicago:20260213T160000
DTEND;TZID=America/Chicago:20260213T210000
DTSTAMP:20260424T064607
CREATED:20250828T001944Z
LAST-MODIFIED:20250828T001944Z
UID:10004413-1770998400-1771016400@redschoolhousewines.com
SUMMARY:Open
DESCRIPTION:
URL:https://redschoolhousewines.com/event/open-9/2026-02-13/
LOCATION:Red Schoolhouse Wines & Spirits\, 5768N 4th St S\, Stone Lake\, WI\, 54876\, United States
CATEGORIES:Hours
GEO:45.843909;-91.540266
X-APPLE-STRUCTURED-LOCATION;VALUE=URI;X-ADDRESS=Red Schoolhouse Wines & Spirits 5768N 4th St S Stone Lake WI 54876 United States;X-APPLE-RADIUS=500;X-TITLE=5768N 4th St S:geo:-91.540266,45.843909
END:VEVENT
BEGIN:VEVENT
DTSTART;TZID=America/Chicago:20260214T113000
DTEND;TZID=America/Chicago:20260214T210000
DTSTAMP:20260424T064607
CREATED:20250514T165716Z
LAST-MODIFIED:20250514T165716Z
UID:10004248-1771068600-1771102800@redschoolhousewines.com
SUMMARY:Open
DESCRIPTION:
URL:https://redschoolhousewines.com/event/open-6/2026-02-14/
LOCATION:Red Schoolhouse Wines & Spirits\, 5768N 4th St S\, Stone Lake\, WI\, 54876\, United States
CATEGORIES:Hours
GEO:45.843909;-91.540266
X-APPLE-STRUCTURED-LOCATION;VALUE=URI;X-ADDRESS=Red Schoolhouse Wines & Spirits 5768N 4th St S Stone Lake WI 54876 United States;X-APPLE-RADIUS=500;X-TITLE=5768N 4th St S:geo:-91.540266,45.843909
END:VEVENT
BEGIN:VEVENT
DTSTART;TZID=America/Chicago:20260220T160000
DTEND;TZID=America/Chicago:20260220T210000
DTSTAMP:20260424T064607
CREATED:20250828T001944Z
LAST-MODIFIED:20250828T001944Z
UID:10004414-1771603200-1771621200@redschoolhousewines.com
SUMMARY:Open
DESCRIPTION:
URL:https://redschoolhousewines.com/event/open-9/2026-02-20/
LOCATION:Red Schoolhouse Wines & Spirits\, 5768N 4th St S\, Stone Lake\, WI\, 54876\, United States
CATEGORIES:Hours
GEO:45.843909;-91.540266
X-APPLE-STRUCTURED-LOCATION;VALUE=URI;X-ADDRESS=Red Schoolhouse Wines & Spirits 5768N 4th St S Stone Lake WI 54876 United States;X-APPLE-RADIUS=500;X-TITLE=5768N 4th St S:geo:-91.540266,45.843909
END:VEVENT
BEGIN:VEVENT
DTSTART;TZID=America/Chicago:20260221T113000
DTEND;TZID=America/Chicago:20260221T210000
DTSTAMP:20260424T064607
CREATED:20250514T165716Z
LAST-MODIFIED:20250514T165716Z
UID:10004249-1771673400-1771707600@redschoolhousewines.com
SUMMARY:Open
DESCRIPTION:
URL:https://redschoolhousewines.com/event/open-6/2026-02-21/
LOCATION:Red Schoolhouse Wines & Spirits\, 5768N 4th St S\, Stone Lake\, WI\, 54876\, United States
CATEGORIES:Hours
GEO:45.843909;-91.540266
X-APPLE-STRUCTURED-LOCATION;VALUE=URI;X-ADDRESS=Red Schoolhouse Wines & Spirits 5768N 4th St S Stone Lake WI 54876 United States;X-APPLE-RADIUS=500;X-TITLE=5768N 4th St S:geo:-91.540266,45.843909
END:VEVENT
BEGIN:VEVENT
DTSTART;TZID=America/Chicago:20260227T160000
DTEND;TZID=America/Chicago:20260227T210000
DTSTAMP:20260424T064607
CREATED:20250828T001944Z
LAST-MODIFIED:20250828T001944Z
UID:10004415-1772208000-1772226000@redschoolhousewines.com
SUMMARY:Open
DESCRIPTION:
URL:https://redschoolhousewines.com/event/open-9/2026-02-27/
LOCATION:Red Schoolhouse Wines & Spirits\, 5768N 4th St S\, Stone Lake\, WI\, 54876\, United States
CATEGORIES:Hours
GEO:45.843909;-91.540266
X-APPLE-STRUCTURED-LOCATION;VALUE=URI;X-ADDRESS=Red Schoolhouse Wines & Spirits 5768N 4th St S Stone Lake WI 54876 United States;X-APPLE-RADIUS=500;X-TITLE=5768N 4th St S:geo:-91.540266,45.843909
END:VEVENT
BEGIN:VEVENT
DTSTART;TZID=America/Chicago:20260228T113000
DTEND;TZID=America/Chicago:20260228T210000
DTSTAMP:20260424T064607
CREATED:20250514T165716Z
LAST-MODIFIED:20250514T165716Z
UID:10004250-1772278200-1772312400@redschoolhousewines.com
SUMMARY:Open
DESCRIPTION:
URL:https://redschoolhousewines.com/event/open-6/2026-02-28/
LOCATION:Red Schoolhouse Wines & Spirits\, 5768N 4th St S\, Stone Lake\, WI\, 54876\, United States
CATEGORIES:Hours
GEO:45.843909;-91.540266
X-APPLE-STRUCTURED-LOCATION;VALUE=URI;X-ADDRESS=Red Schoolhouse Wines & Spirits 5768N 4th St S Stone Lake WI 54876 United States;X-APPLE-RADIUS=500;X-TITLE=5768N 4th St S:geo:-91.540266,45.843909
END:VEVENT
END:VCALENDAR