BEGIN:VCALENDAR
VERSION:2.0
PRODID:-//Red Schoolhouse Wines - ECPv6.15.20//NONSGML v1.0//EN
CALSCALE:GREGORIAN
METHOD:PUBLISH
X-WR-CALNAME:Red Schoolhouse Wines
X-ORIGINAL-URL:https://redschoolhousewines.com
X-WR-CALDESC:Events for Red Schoolhouse Wines
REFRESH-INTERVAL;VALUE=DURATION:PT1H
X-Robots-Tag:noindex
X-PUBLISHED-TTL:PT1H
BEGIN:VTIMEZONE
TZID:America/Chicago
BEGIN:DAYLIGHT
TZOFFSETFROM:-0600
TZOFFSETTO:-0500
TZNAME:CDT
DTSTART:20230312T080000
END:DAYLIGHT
BEGIN:STANDARD
TZOFFSETFROM:-0500
TZOFFSETTO:-0600
TZNAME:CST
DTSTART:20231105T070000
END:STANDARD
BEGIN:DAYLIGHT
TZOFFSETFROM:-0600
TZOFFSETTO:-0500
TZNAME:CDT
DTSTART:20240310T080000
END:DAYLIGHT
BEGIN:STANDARD
TZOFFSETFROM:-0500
TZOFFSETTO:-0600
TZNAME:CST
DTSTART:20241103T070000
END:STANDARD
BEGIN:DAYLIGHT
TZOFFSETFROM:-0600
TZOFFSETTO:-0500
TZNAME:CDT
DTSTART:20250309T080000
END:DAYLIGHT
BEGIN:STANDARD
TZOFFSETFROM:-0500
TZOFFSETTO:-0600
TZNAME:CST
DTSTART:20251102T070000
END:STANDARD
BEGIN:DAYLIGHT
TZOFFSETFROM:-0600
TZOFFSETTO:-0500
TZNAME:CDT
DTSTART:20260308T080000
END:DAYLIGHT
BEGIN:STANDARD
TZOFFSETFROM:-0500
TZOFFSETTO:-0600
TZNAME:CST
DTSTART:20261101T070000
END:STANDARD
END:VTIMEZONE
BEGIN:VEVENT
DTSTART;TZID=America/Chicago:20250604T113000
DTEND;TZID=America/Chicago:20250604T200000
DTSTAMP:20260425T173522
CREATED:20250514T163910Z
LAST-MODIFIED:20250828T002740Z
UID:1147-1749036600-1749067200@redschoolhousewines.com
SUMMARY:Open
DESCRIPTION:
URL:https://redschoolhousewines.com/event/open-2/
LOCATION:Red Schoolhouse Wines & Spirits\, 5768N 4th St S\, Stone Lake\, WI\, 54876\, United States
CATEGORIES:Hours
END:VEVENT
BEGIN:VEVENT
DTSTART;TZID=America/Chicago:20250123T180000
DTEND;TZID=America/Chicago:20250123T200000
DTSTAMP:20260425T173522
CREATED:20241022T185130Z
LAST-MODIFIED:20250422T220000Z
UID:921-1737655200-1737662400@redschoolhousewines.com
SUMMARY:Bingo- Senior Resource Center
DESCRIPTION:Open 4:00-8:00 \nBingo 6:00-8:00 \nSenior Resource Center \n  \n 
URL:https://redschoolhousewines.com/event/fall-hours-wednesday-2-2/
LOCATION:Red Schoolhouse Wines & Spirits\, 5768N 4th St S\, Stone Lake\, WI\, 54876\, United States
CATEGORIES:Events
END:VEVENT
BEGIN:VEVENT
DTSTART;TZID=America/Chicago:20250605T113000
DTEND;TZID=America/Chicago:20250605T200000
DTSTAMP:20260425T173522
CREATED:20250514T164833Z
LAST-MODIFIED:20250828T002500Z
UID:1150-1749123000-1749153600@redschoolhousewines.com
SUMMARY:Open
DESCRIPTION:
URL:https://redschoolhousewines.com/event/open-4/
LOCATION:Red Schoolhouse Wines & Spirits\, 5768N 4th St S\, Stone Lake\, WI\, 54876\, United States
CATEGORIES:Hours
END:VEVENT
BEGIN:VEVENT
DTSTART;TZID=America/Chicago:20250605T180000
DTEND;TZID=America/Chicago:20250605T200000
DTSTAMP:20260425T173522
CREATED:20240428T203229Z
LAST-MODIFIED:20250225T032421Z
UID:661-1749146400-1749153600@redschoolhousewines.com
SUMMARY:Jim Czechowitz
DESCRIPTION:Jim C.: Life-long singer/guitarist\, Jim Czechowicz\, performs classic ’60s -’70s pop and country songs. Jim is definite must see for a great relaxing night on our pation listening to great music\, drinking wine and living your best life.
URL:https://redschoolhousewines.com/event/jim-czechowitz/
LOCATION:Red Schoolhouse Wines & Spirits\, 5768N 4th St S\, Stone Lake\, WI\, 54876\, United States
CATEGORIES:Events
END:VEVENT
BEGIN:VEVENT
DTSTART;TZID=America/Chicago:20250828T180000
DTEND;TZID=America/Chicago:20250828T200000
DTSTAMP:20260425T173522
CREATED:20250808T201832Z
LAST-MODIFIED:20250808T201832Z
UID:1196-1756404000-1756411200@redschoolhousewines.com
SUMMARY:Lets Do Bourbon
DESCRIPTION:Lets do a Bourbon Tasting! \nThis is a limited ticket event.  (25) \nPrice: 65.00 \nYou will taste 4 different Bourbons as part of the tasting and a 5th a bonus.
URL:https://redschoolhousewines.com/event/lets-do-bourbon/
LOCATION:Red Schoolhouse Wines & Spirits\, 5768N 4th St S\, Stone Lake\, WI\, 54876\, United States
CATEGORIES:Events
END:VEVENT
BEGIN:VEVENT
DTSTART;TZID=America/Chicago:20250606T113000
DTEND;TZID=America/Chicago:20250606T210000
DTSTAMP:20260425T173522
CREATED:20250514T165408Z
LAST-MODIFIED:20250828T002308Z
UID:1154-1749209400-1749243600@redschoolhousewines.com
SUMMARY:Open
DESCRIPTION:
URL:https://redschoolhousewines.com/event/open-5/
LOCATION:Red Schoolhouse Wines & Spirits\, 5768N 4th St S\, Stone Lake\, WI\, 54876\, United States
CATEGORIES:Hours
END:VEVENT
BEGIN:VEVENT
DTSTART;TZID=America/Chicago:20250808T180000
DTEND;TZID=America/Chicago:20250808T210000
DTSTAMP:20260425T173522
CREATED:20240428T205825Z
LAST-MODIFIED:20250225T040818Z
UID:670-1754676000-1754686800@redschoolhousewines.com
SUMMARY:Kurt Bearinger Music
DESCRIPTION:We are so excited to Welcome Kurt Bearinger to Red Schoolhouse Wines and Spirits and Stone Lake! He is from the Twin Cities and is a one-man cover band (Country/Folk\, Classic Rock\, and Pop Rock).
URL:https://redschoolhousewines.com/event/kurt-bearinger-music/
LOCATION:Red Schoolhouse Wines & Spirits\, 5768N 4th St S\, Stone Lake\, WI\, 54876\, United States
CATEGORIES:Events
END:VEVENT
BEGIN:VEVENT
DTSTART;TZID=America/Chicago:20250607T113000
DTEND;TZID=America/Chicago:20250607T210000
DTSTAMP:20260425T173522
CREATED:20250514T165716Z
LAST-MODIFIED:20250514T165716Z
UID:1157-1749295800-1749330000@redschoolhousewines.com
SUMMARY:Open
DESCRIPTION:
URL:https://redschoolhousewines.com/event/open-6/
LOCATION:Red Schoolhouse Wines & Spirits\, 5768N 4th St S\, Stone Lake\, WI\, 54876\, United States
CATEGORIES:Hours
END:VEVENT
BEGIN:VEVENT
DTSTART;TZID=America/Chicago:20250830T180000
DTEND;TZID=America/Chicago:20250830T210000
DTSTAMP:20260425T173522
CREATED:20250228T002926Z
LAST-MODIFIED:20250228T002926Z
UID:1058-1756576800-1756587600@redschoolhousewines.com
SUMMARY:Flaming Doublewides
DESCRIPTION:Group from Eau Claire that you will not want to miss.
URL:https://redschoolhousewines.com/event/flaming-doublewides/
LOCATION:Red Schoolhouse Wines & Spirits\, 5768N 4th St S\, Stone Lake\, WI\, 54876\, United States
CATEGORIES:Events
END:VEVENT
BEGIN:VEVENT
DTSTART;TZID=America/Chicago:20250831T123000
DTEND;TZID=America/Chicago:20250831T210000
DTSTAMP:20260425T173522
CREATED:20250808T194809Z
LAST-MODIFIED:20250808T194809Z
UID:1193-1756643400-1756674000@redschoolhousewines.com
SUMMARY:Open
DESCRIPTION:Open from 12:30-9:00 \n 
URL:https://redschoolhousewines.com/event/open-8/
LOCATION:Red Schoolhouse Wines & Spirits\, 5768N 4th St S\, Stone Lake\, WI\, 54876\, United States
CATEGORIES:Hours
END:VEVENT
BEGIN:VEVENT
DTSTART;TZID=America/Chicago:20240525T180000
DTEND;TZID=America/Chicago:20240525T200000
DTSTAMP:20260425T173522
CREATED:20240507T190111Z
LAST-MODIFIED:20250822T221236Z
UID:681-1716660000-1716667200@redschoolhousewines.com
SUMMARY:Sean & Ian Okamoto
DESCRIPTION:Sean and Ian Okamoto are a father-son duo hailing from Northern Wisconsin.  Ian recently earned his golden ticket to Hollywood.  Even though that is where the journey ended. I can’t express how incredibly proud we are of  Ian.  He will always be our American Idol. With that being said: We are sure glad to have him back here in Northern Wisconsin.  Sean has been playing Music for over 50 years touring with bands and as a singer songwriter.  His son Ian has been a pianist since he could reach the keys and began performing professionally at the age of 14.  They play everything from the 1940s bops to modern-day hits and everything in between.  They are truly a sensational duo that does not disappoint. \n 
URL:https://redschoolhousewines.com/event/sean-ian-okamoto/
LOCATION:Red Schoolhouse Wines & Spirits\, 5768N 4th St S\, Stone Lake\, WI\, 54876\, United States
CATEGORIES:Events
END:VEVENT
BEGIN:VEVENT
DTSTART;TZID=America/Chicago:20250905T160000
DTEND;TZID=America/Chicago:20250905T210000
DTSTAMP:20260425T173522
CREATED:20250828T001944Z
LAST-MODIFIED:20250828T001944Z
UID:1200-1757088000-1757106000@redschoolhousewines.com
SUMMARY:Open
DESCRIPTION:
URL:https://redschoolhousewines.com/event/open-9/
LOCATION:Red Schoolhouse Wines & Spirits\, 5768N 4th St S\, Stone Lake\, WI\, 54876\, United States
CATEGORIES:Hours
END:VEVENT
BEGIN:VEVENT
DTSTART;TZID=America/Chicago:20250607T113000
DTEND;TZID=America/Chicago:20250607T210000
DTSTAMP:20260425T173522
CREATED:20250514T165716Z
LAST-MODIFIED:20250514T165716Z
UID:1157-1749295800-1749330000@redschoolhousewines.com
SUMMARY:Open
DESCRIPTION:
URL:https://redschoolhousewines.com/event/open-6/
LOCATION:Red Schoolhouse Wines & Spirits\, 5768N 4th St S\, Stone Lake\, WI\, 54876\, United States
CATEGORIES:Hours
END:VEVENT
BEGIN:VEVENT
DTSTART;TZID=America/Chicago:20250905T160000
DTEND;TZID=America/Chicago:20250905T210000
DTSTAMP:20260425T173522
CREATED:20250828T001944Z
LAST-MODIFIED:20250828T001944Z
UID:1200-1757088000-1757106000@redschoolhousewines.com
SUMMARY:Open
DESCRIPTION:
URL:https://redschoolhousewines.com/event/open-9/
LOCATION:Red Schoolhouse Wines & Spirits\, 5768N 4th St S\, Stone Lake\, WI\, 54876\, United States
CATEGORIES:Hours
END:VEVENT
BEGIN:VEVENT
DTSTART;TZID=America/Chicago:20250607T113000
DTEND;TZID=America/Chicago:20250607T210000
DTSTAMP:20260425T173522
CREATED:20250514T165716Z
LAST-MODIFIED:20250514T165716Z
UID:1157-1749295800-1749330000@redschoolhousewines.com
SUMMARY:Open
DESCRIPTION:
URL:https://redschoolhousewines.com/event/open-6/
LOCATION:Red Schoolhouse Wines & Spirits\, 5768N 4th St S\, Stone Lake\, WI\, 54876\, United States
CATEGORIES:Hours
END:VEVENT
BEGIN:VEVENT
DTSTART;TZID=America/Chicago:20250917T150000
DTEND;TZID=America/Chicago:20250917T180000
DTSTAMP:20260425T173522
CREATED:20250828T003020Z
LAST-MODIFIED:20250828T003020Z
UID:1202-1758121200-1758132000@redschoolhousewines.com
SUMMARY:Stone Lake Girls Night Out
DESCRIPTION:Its time for another Stone Lake Girls Night Out! \nStay afterward for Bingo that starts at 6:00
URL:https://redschoolhousewines.com/event/stone-lake-girls-night-out/
LOCATION:Red Schoolhouse Wines & Spirits\, 5768N 4th St S\, Stone Lake\, WI\, 54876\, United States
CATEGORIES:Events
END:VEVENT
BEGIN:VEVENT
DTSTART;TZID=America/Chicago:20250917T180000
DTEND;TZID=America/Chicago:20250917T200000
DTSTAMP:20260425T173522
CREATED:20250828T003209Z
LAST-MODIFIED:20250828T003517Z
UID:1204-1758132000-1758139200@redschoolhousewines.com
SUMMARY:Bingo
DESCRIPTION:Senior Resource Center \nOutside Weather Permitting
URL:https://redschoolhousewines.com/event/bingo-2/
LOCATION:Red Schoolhouse Wines & Spirits\, 5768N 4th St S\, Stone Lake\, WI\, 54876\, United States
CATEGORIES:Hours
END:VEVENT
BEGIN:VEVENT
DTSTART;TZID=America/Chicago:20250905T160000
DTEND;TZID=America/Chicago:20250905T210000
DTSTAMP:20260425T173522
CREATED:20250828T001944Z
LAST-MODIFIED:20250828T001944Z
UID:1200-1757088000-1757106000@redschoolhousewines.com
SUMMARY:Open
DESCRIPTION:
URL:https://redschoolhousewines.com/event/open-9/
LOCATION:Red Schoolhouse Wines & Spirits\, 5768N 4th St S\, Stone Lake\, WI\, 54876\, United States
CATEGORIES:Hours
END:VEVENT
BEGIN:VEVENT
DTSTART;TZID=America/Chicago:20250607T113000
DTEND;TZID=America/Chicago:20250607T210000
DTSTAMP:20260425T173522
CREATED:20250514T165716Z
LAST-MODIFIED:20250514T165716Z
UID:1157-1749295800-1749330000@redschoolhousewines.com
SUMMARY:Open
DESCRIPTION:
URL:https://redschoolhousewines.com/event/open-6/
LOCATION:Red Schoolhouse Wines & Spirits\, 5768N 4th St S\, Stone Lake\, WI\, 54876\, United States
CATEGORIES:Hours
END:VEVENT
BEGIN:VEVENT
DTSTART;TZID=America/Chicago:20250922T173000
DTEND;TZID=America/Chicago:20250922T190000
DTSTAMP:20260425T173522
CREATED:20250828T004755Z
LAST-MODIFIED:20250828T004805Z
UID:1209-1758562200-1758567600@redschoolhousewines.com
SUMMARY:Sip\, Savor\, Support
DESCRIPTION:An Evening Celebrating Northwestern Wisconsin Women Entrepreneurs \nJoin us for a delightful evening filled with: Appetizers & Wine: Enjoy a beverage\, snack and networking. Connect with emerging entrepreneurs and community supporters. Dessert Auction: Indulge in our decadent dessert auction featuring confections from local bakers. All proceeds support the Red Letter Grant.
URL:https://redschoolhousewines.com/event/sip-savor-support/
LOCATION:Red Schoolhouse Wines & Spirits\, 5768N 4th St S\, Stone Lake\, WI\, 54876\, United States
CATEGORIES:Events
END:VEVENT
BEGIN:VEVENT
DTSTART;TZID=America/Chicago:20250917T180000
DTEND;TZID=America/Chicago:20250917T200000
DTSTAMP:20260425T173522
CREATED:20250828T003209Z
LAST-MODIFIED:20250828T003517Z
UID:1204-1758132000-1758139200@redschoolhousewines.com
SUMMARY:Bingo
DESCRIPTION:Senior Resource Center \nOutside Weather Permitting
URL:https://redschoolhousewines.com/event/bingo-2/
LOCATION:Red Schoolhouse Wines & Spirits\, 5768N 4th St S\, Stone Lake\, WI\, 54876\, United States
CATEGORIES:Hours
END:VEVENT
BEGIN:VEVENT
DTSTART;TZID=America/Chicago:20250905T160000
DTEND;TZID=America/Chicago:20250905T210000
DTSTAMP:20260425T173522
CREATED:20250828T001944Z
LAST-MODIFIED:20250828T001944Z
UID:1200-1757088000-1757106000@redschoolhousewines.com
SUMMARY:Open
DESCRIPTION:
URL:https://redschoolhousewines.com/event/open-9/
LOCATION:Red Schoolhouse Wines & Spirits\, 5768N 4th St S\, Stone Lake\, WI\, 54876\, United States
CATEGORIES:Hours
END:VEVENT
BEGIN:VEVENT
DTSTART;TZID=America/Chicago:20250607T113000
DTEND;TZID=America/Chicago:20250607T210000
DTSTAMP:20260425T173522
CREATED:20250514T165716Z
LAST-MODIFIED:20250514T165716Z
UID:1157-1749295800-1749330000@redschoolhousewines.com
SUMMARY:Open
DESCRIPTION:
URL:https://redschoolhousewines.com/event/open-6/
LOCATION:Red Schoolhouse Wines & Spirits\, 5768N 4th St S\, Stone Lake\, WI\, 54876\, United States
CATEGORIES:Hours
END:VEVENT
BEGIN:VEVENT
DTSTART;TZID=America/Chicago:20250905T160000
DTEND;TZID=America/Chicago:20250905T210000
DTSTAMP:20260425T173522
CREATED:20250828T001944Z
LAST-MODIFIED:20250828T001944Z
UID:1200-1757088000-1757106000@redschoolhousewines.com
SUMMARY:Open
DESCRIPTION:
URL:https://redschoolhousewines.com/event/open-9/
LOCATION:Red Schoolhouse Wines & Spirits\, 5768N 4th St S\, Stone Lake\, WI\, 54876\, United States
CATEGORIES:Hours
END:VEVENT
BEGIN:VEVENT
DTSTART;TZID=America/Chicago:20250607T113000
DTEND;TZID=America/Chicago:20250607T210000
DTSTAMP:20260425T173522
CREATED:20250514T165716Z
LAST-MODIFIED:20250514T165716Z
UID:1157-1749295800-1749330000@redschoolhousewines.com
SUMMARY:Open
DESCRIPTION:
URL:https://redschoolhousewines.com/event/open-6/
LOCATION:Red Schoolhouse Wines & Spirits\, 5768N 4th St S\, Stone Lake\, WI\, 54876\, United States
CATEGORIES:Hours
END:VEVENT
BEGIN:VEVENT
DTSTART;TZID=America/Chicago:20250905T160000
DTEND;TZID=America/Chicago:20250905T210000
DTSTAMP:20260425T173522
CREATED:20250828T001944Z
LAST-MODIFIED:20250828T001944Z
UID:1200-1757088000-1757106000@redschoolhousewines.com
SUMMARY:Open
DESCRIPTION:
URL:https://redschoolhousewines.com/event/open-9/
LOCATION:Red Schoolhouse Wines & Spirits\, 5768N 4th St S\, Stone Lake\, WI\, 54876\, United States
CATEGORIES:Hours
END:VEVENT
BEGIN:VEVENT
DTSTART;TZID=America/Chicago:20250607T113000
DTEND;TZID=America/Chicago:20250607T210000
DTSTAMP:20260425T173522
CREATED:20250514T165716Z
LAST-MODIFIED:20250514T165716Z
UID:1157-1749295800-1749330000@redschoolhousewines.com
SUMMARY:Open
DESCRIPTION:
URL:https://redschoolhousewines.com/event/open-6/
LOCATION:Red Schoolhouse Wines & Spirits\, 5768N 4th St S\, Stone Lake\, WI\, 54876\, United States
CATEGORIES:Hours
END:VEVENT
BEGIN:VEVENT
DTSTART;TZID=America/Chicago:20250905T160000
DTEND;TZID=America/Chicago:20250905T210000
DTSTAMP:20260425T173522
CREATED:20250828T001944Z
LAST-MODIFIED:20250828T001944Z
UID:1200-1757088000-1757106000@redschoolhousewines.com
SUMMARY:Open
DESCRIPTION:
URL:https://redschoolhousewines.com/event/open-9/
LOCATION:Red Schoolhouse Wines & Spirits\, 5768N 4th St S\, Stone Lake\, WI\, 54876\, United States
CATEGORIES:Hours
END:VEVENT
BEGIN:VEVENT
DTSTART;TZID=America/Chicago:20250607T113000
DTEND;TZID=America/Chicago:20250607T210000
DTSTAMP:20260425T173522
CREATED:20250514T165716Z
LAST-MODIFIED:20250514T165716Z
UID:1157-1749295800-1749330000@redschoolhousewines.com
SUMMARY:Open
DESCRIPTION:
URL:https://redschoolhousewines.com/event/open-6/
LOCATION:Red Schoolhouse Wines & Spirits\, 5768N 4th St S\, Stone Lake\, WI\, 54876\, United States
CATEGORIES:Hours
END:VEVENT
BEGIN:VEVENT
DTSTART;TZID=America/Chicago:20250905T160000
DTEND;TZID=America/Chicago:20250905T210000
DTSTAMP:20260425T173522
CREATED:20250828T001944Z
LAST-MODIFIED:20250828T001944Z
UID:1200-1757088000-1757106000@redschoolhousewines.com
SUMMARY:Open
DESCRIPTION:
URL:https://redschoolhousewines.com/event/open-9/
LOCATION:Red Schoolhouse Wines & Spirits\, 5768N 4th St S\, Stone Lake\, WI\, 54876\, United States
CATEGORIES:Hours
END:VEVENT
END:VCALENDAR