BEGIN:VCALENDAR
VERSION:2.0
PRODID:-//Red Schoolhouse Wines - ECPv6.15.20//NONSGML v1.0//EN
CALSCALE:GREGORIAN
METHOD:PUBLISH
X-ORIGINAL-URL:https://redschoolhousewines.com
X-WR-CALDESC:Events for Red Schoolhouse Wines
REFRESH-INTERVAL;VALUE=DURATION:PT1H
X-Robots-Tag:noindex
X-PUBLISHED-TTL:PT1H
BEGIN:VTIMEZONE
TZID:America/Chicago
BEGIN:DAYLIGHT
TZOFFSETFROM:-0600
TZOFFSETTO:-0500
TZNAME:CDT
DTSTART:20230312T080000
END:DAYLIGHT
BEGIN:STANDARD
TZOFFSETFROM:-0500
TZOFFSETTO:-0600
TZNAME:CST
DTSTART:20231105T070000
END:STANDARD
BEGIN:DAYLIGHT
TZOFFSETFROM:-0600
TZOFFSETTO:-0500
TZNAME:CDT
DTSTART:20240310T080000
END:DAYLIGHT
BEGIN:STANDARD
TZOFFSETFROM:-0500
TZOFFSETTO:-0600
TZNAME:CST
DTSTART:20241103T070000
END:STANDARD
BEGIN:DAYLIGHT
TZOFFSETFROM:-0600
TZOFFSETTO:-0500
TZNAME:CDT
DTSTART:20250309T080000
END:DAYLIGHT
BEGIN:STANDARD
TZOFFSETFROM:-0500
TZOFFSETTO:-0600
TZNAME:CST
DTSTART:20251102T070000
END:STANDARD
END:VTIMEZONE
BEGIN:VEVENT
DTSTART;TZID=America/Chicago:20240618T173000
DTEND;TZID=America/Chicago:20240618T193000
DTSTAMP:20260425T143124
CREATED:20240507T212550Z
LAST-MODIFIED:20240525T201638Z
UID:745-1718731800-1718739000@redschoolhousewines.com
SUMMARY:Distributor Night
DESCRIPTION:Come out and enjoy a night on our patio meeting our distributors and trying what is new.  Of course we will have all of your favorites available to buy. \nThere will be a wide variety of drink choices to choose from.
URL:https://redschoolhousewines.com/event/distributor-night/
LOCATION:Red Schoolhouse Wines & Spirits\, 5768N 4th St S\, Stone Lake\, WI\, 54876\, United States
CATEGORIES:Events
END:VEVENT
END:VCALENDAR